BEGIN:VCALENDAR
VERSION:2.0
PRODID:-//Canaan Congregational Church - ECPv6.15.20//NONSGML v1.0//EN
CALSCALE:GREGORIAN
METHOD:PUBLISH
X-WR-CALNAME:Canaan Congregational Church
X-ORIGINAL-URL:https://www.canaanucc.org
X-WR-CALDESC:Events for Canaan Congregational Church
REFRESH-INTERVAL;VALUE=DURATION:PT1H
X-Robots-Tag:noindex
X-PUBLISHED-TTL:PT1H
BEGIN:VTIMEZONE
TZID:America/New_York
BEGIN:DAYLIGHT
TZOFFSETFROM:-0500
TZOFFSETTO:-0400
TZNAME:EDT
DTSTART:20250309T070000
END:DAYLIGHT
BEGIN:STANDARD
TZOFFSETFROM:-0400
TZOFFSETTO:-0500
TZNAME:EST
DTSTART:20251102T060000
END:STANDARD
BEGIN:DAYLIGHT
TZOFFSETFROM:-0500
TZOFFSETTO:-0400
TZNAME:EDT
DTSTART:20260308T070000
END:DAYLIGHT
BEGIN:STANDARD
TZOFFSETFROM:-0400
TZOFFSETTO:-0500
TZNAME:EST
DTSTART:20261101T060000
END:STANDARD
BEGIN:DAYLIGHT
TZOFFSETFROM:-0500
TZOFFSETTO:-0400
TZNAME:EDT
DTSTART:20270314T070000
END:DAYLIGHT
BEGIN:STANDARD
TZOFFSETFROM:-0400
TZOFFSETTO:-0500
TZNAME:EST
DTSTART:20271107T060000
END:STANDARD
END:VTIMEZONE
BEGIN:VEVENT
DTSTART;TZID=America/New_York:20260215T100000
DTEND;TZID=America/New_York:20260215T110000
DTSTAMP:20260425T123702
CREATED:20260205T190421Z
LAST-MODIFIED:20260205T190421Z
UID:2458-1771149600-1771153200@www.canaanucc.org
SUMMARY:Worship with Rev. Kaishin Eric Russell
DESCRIPTION:
URL:https://www.canaanucc.org/event/worship-with-rev-kaishin-eric-russell/
LOCATION:Canaan Congregational Church\, UCC\, 1670 County Route 5\, Canaan\, NY\, 12029\, United States
CATEGORIES:Worship
END:VEVENT
BEGIN:VEVENT
DTSTART;TZID=America/New_York:20260218T173000
DTEND;TZID=America/New_York:20260218T183000
DTSTAMP:20260425T123702
CREATED:20260209T190730Z
LAST-MODIFIED:20260209T190730Z
UID:2463-1771435800-1771439400@www.canaanucc.org
SUMMARY:Ash Wednesday Service with Rev. Mike Denton
DESCRIPTION:
URL:https://www.canaanucc.org/event/ash-wednesday-service-with-rev-mike-denton/
LOCATION:United Church of Pittsfield\, 110 South Street\, Pittsfield\, 01201\, United States
CATEGORIES:Worship
END:VEVENT
BEGIN:VEVENT
DTSTART;TZID=America/New_York:20260222T100000
DTEND;TZID=America/New_York:20260222T110000
DTSTAMP:20260425T123702
CREATED:20260209T190922Z
LAST-MODIFIED:20260209T190922Z
UID:2465-1771754400-1771758000@www.canaanucc.org
SUMMARY:Worship with Rev. Mike Denton in Person and Zoom
DESCRIPTION:Also available via ZOOM
URL:https://www.canaanucc.org/event/worship-with-rev-mike-denton-in-person-and-zoom/
LOCATION:Canaan Congregational Church\, UCC\, 1670 County Route 5\, Canaan\, NY\, 12029\, United States
CATEGORIES:Worship
END:VEVENT
END:VCALENDAR